BEGIN:VCALENDAR
VERSION:2.0
PRODID:-//Library Market//iCal Export//EN
BEGIN:VEVENT
SUMMARY:Memorial Day Flag Installation for Veterans
UID:71819
DTSTAMP:20260424T133100Z
DTSTART:20260522T143000Z
DTEND:20260522T153000Z
LOCATION:Copiague Library, 50 Deauville Blvd., Copiague, NY 11726, United 
 States
ROOM: Front Lawn
DESCRIPTION:
URL:https://copiague.librarycalendar.com/index.php/event/memorial-day-flag
 -installation-veterans-71819
END:VEVENT
END:VCALENDAR
