BEGIN:VCALENDAR
VERSION:2.0
PRODID:-//Library Market//iCal Export//EN
BEGIN:VEVENT
SUMMARY:Learn Mah-jongg
UID:66365
DTSTAMP:20260422T212300Z
DTSTART:20260602T143000Z
DTEND:20260602T163000Z
LOCATION:Copiague Library, 50 Deauville Blvd., Copiague, NY 11726, United 
 States
ROOM: Community Room A
DESCRIPTION:Learn to play American Mah-jongg following the National Mah-jo
 ngg league rules with Nancy Esposito. Experience the excitement of learnin
 g this historic game that is now popular with adults of all ages. Mah-jong
 g sets will be available for use during class and instructional materials 
 will be provided. 
URL:https://copiague.librarycalendar.com/event/learn-mah-jongg-66365
END:VEVENT
END:VCALENDAR
